BEGIN:VCALENDAR
VERSION:2.0
PRODID:-//Chippewas of Nawash Unceded First Nation - ECPv6.15.20//NONSGML v1.0//EN
CALSCALE:GREGORIAN
METHOD:PUBLISH
X-WR-CALNAME:Chippewas of Nawash Unceded First Nation
X-ORIGINAL-URL:https://www.nawash.ca
X-WR-CALDESC:Events for Chippewas of Nawash Unceded First Nation
REFRESH-INTERVAL;VALUE=DURATION:PT1H
X-Robots-Tag:noindex
X-PUBLISHED-TTL:PT1H
BEGIN:VTIMEZONE
TZID:UTC
BEGIN:STANDARD
TZOFFSETFROM:+0000
TZOFFSETTO:+0000
TZNAME:UTC
DTSTART:20230101T000000
END:STANDARD
END:VTIMEZONE
BEGIN:VEVENT
DTSTART;TZID=UTC:20240725T160000
DTEND;TZID=UTC:20240725T190000
DTSTAMP:20260422T010200
CREATED:20240722T133042Z
LAST-MODIFIED:20240723T152828Z
UID:18439-1721923200-1721934000@www.nawash.ca
SUMMARY:Family Fishing
DESCRIPTION:THIS EVENT HAS BEEN POSTPONED – WE WILL UPDATE WHEN A NEW DATE HAS BEEN SELECTED \nNawash Family Fishing Day \nThursday\, July 25th\, 2024 from 4:00pm to 7:00pm \n\nExperiment with Fish Scale Crafting\nFishing Basics\, tying\, lures vs. bait\, casting\, tips etc.\nFileting and scaling demo\nFish prep for cooking\nFood – fish samples and other snacks\nKids prize for home-made fishing rod/set up! Bring something you made to be entered in a draw and try it out while your on shore\nPrizes for heaviest fish\, longest fish\, smallest fish\, etc.\nGood ‘ol fashioned community fun\n\nCape Croker Park – Rough Camping Pavilion \n\nBring your rod and tackle\, we will have a few extras for people to use\nBring your feast bag with plate/cutlery/water bottle\nBring your lawn chairs\, sun hats\, sun screen\, bug spray if you need\nChildren must be with a caregiver – no childcare onsite\nSpecial invitation to seniors\, older adults experienced community anglers – please come and help the younger ones learn!
URL:https://www.nawash.ca/event/family-fishing/
LOCATION:Ontario
ATTACH;FMTTYPE=image/jpeg:https://www.nawash.ca/wordpress/wp-content/uploads/2024/07/452793920_493746296639337_6514343237955680495_n.jpg
END:VEVENT
BEGIN:VEVENT
DTSTART;TZID=UTC:20240723T170000
DTEND;TZID=UTC:20240723T210000
DTSTAMP:20260422T010200
CREATED:20240722T134947Z
LAST-MODIFIED:20240722T134947Z
UID:18455-1721754000-1721768400@www.nawash.ca
SUMMARY:Community Crafting Sessions
DESCRIPTION:Family Well-Being has rented the Maadookii Seniors Centre to provide a space for you to gather and work on your projects. We provide the space\, you bring your projects\, all your own supplies\, snacks\, and a friend! Let’s get ready for Pow wow together! \nTuesday Evenings from 5-9pm for July and August at Maadookii Centre \nDrop in any time – set up your workspace\, when finished just put the chair and table away \n  \n 
URL:https://www.nawash.ca/event/community-crafting-sessions/
LOCATION:Maadookii Seniors Centre\, 33 Maadookii Cres\,\, Wiarton\, Ontario\, N0H 2T0\, Canada
ATTACH;FMTTYPE=image/jpeg:https://www.nawash.ca/wordpress/wp-content/uploads/2024/07/Tuesday-Evening-Crafting-1.jpg
ORGANIZER;CN="Family Well-Being":MAILTO:family.wellbeing.admin@gbtel.ca
END:VEVENT
BEGIN:VEVENT
DTSTART;TZID=UTC:20240722T160000
DTEND;TZID=UTC:20240722T190000
DTSTAMP:20260422T010200
CREATED:20240722T150227Z
LAST-MODIFIED:20240722T150249Z
UID:18472-1721664000-1721674800@www.nawash.ca
SUMMARY:Garden Care and Social
DESCRIPTION:Join the Nawash Family Well-Being Program from 4-7pm to see what’s been growing in the community garden! \nHelp with: \n\nDebris Removal and Seasonal Clean-ups\nSectional Weeding\nGarden Tours\n\nThere will be barbeque food on site along with snacks and refreshments
URL:https://www.nawash.ca/event/garden-care-and-social/
LOCATION:Community Garden
ATTACH;FMTTYPE=image/png:https://www.nawash.ca/wordpress/wp-content/uploads/2024/07/Garden-and-Social-Jul22.png
ORGANIZER;CN="Family Well-Being":MAILTO:family.wellbeing.admin@gbtel.ca
END:VEVENT
END:VCALENDAR