BEGIN:VCALENDAR
VERSION:2.0
PRODID:-//Chippewas of Nawash Unceded First Nation - ECPv6.15.20//NONSGML v1.0//EN
CALSCALE:GREGORIAN
METHOD:PUBLISH
X-ORIGINAL-URL:https://www.nawash.ca
X-WR-CALDESC:Events for Chippewas of Nawash Unceded First Nation
REFRESH-INTERVAL;VALUE=DURATION:PT1H
X-Robots-Tag:noindex
X-PUBLISHED-TTL:PT1H
BEGIN:VTIMEZONE
TZID:UTC
BEGIN:STANDARD
TZOFFSETFROM:+0000
TZOFFSETTO:+0000
TZNAME:UTC
DTSTART:20240101T000000
END:STANDARD
END:VTIMEZONE
BEGIN:VEVENT
DTSTART;TZID=UTC:20251008T120000
DTEND;TZID=UTC:20251008T150000
DTSTAMP:20260420T135219
CREATED:20250929T184428Z
LAST-MODIFIED:20250929T184428Z
UID:22418-1759924800-1759935600@www.nawash.ca
SUMMARY:Good Food Box
DESCRIPTION:
URL:https://www.nawash.ca/event/good-food-box/
LOCATION:Ontario
ATTACH;FMTTYPE=image/jpeg:https://www.nawash.ca/wordpress/wp-content/uploads/2025/09/550168451_3025524517628309_922949742370202618_n-1-e1759171348673.jpg
END:VEVENT
END:VCALENDAR