BEGIN:VCALENDAR
VERSION:2.0
PRODID:-//Chippewas of Nawash Unceded First Nation - ECPv6.15.20//NONSGML v1.0//EN
CALSCALE:GREGORIAN
METHOD:PUBLISH
X-WR-CALNAME:Chippewas of Nawash Unceded First Nation
X-ORIGINAL-URL:https://www.nawash.ca
X-WR-CALDESC:Events for Chippewas of Nawash Unceded First Nation
REFRESH-INTERVAL;VALUE=DURATION:PT1H
X-Robots-Tag:noindex
X-PUBLISHED-TTL:PT1H
BEGIN:VTIMEZONE
TZID:UTC
BEGIN:STANDARD
TZOFFSETFROM:+0000
TZOFFSETTO:+0000
TZNAME:UTC
DTSTART:20240101T000000
END:STANDARD
END:VTIMEZONE
BEGIN:VEVENT
DTSTART;TZID=UTC:20250220T093000
DTEND;TZID=UTC:20250220T153000
DTSTAMP:20260420T112554
CREATED:20250210T161057Z
LAST-MODIFIED:20250210T161057Z
UID:20496-1740043800-1740065400@www.nawash.ca
SUMMARY:Frybread\, Lunch & Anishnaabemowin
DESCRIPTION:
URL:https://www.nawash.ca/event/frybread-lunch-anishnaabemowin/
LOCATION:Community Centre\, 34 Community Centre Rd\, Lion's Head\, Ontario\, N0H 1W0
ATTACH;FMTTYPE=image/jpeg:https://www.nawash.ca/wordpress/wp-content/uploads/2025/02/476273235_630223266324972_4237503890416028175_n-e1739203799533.jpg
ORGANIZER;CN="Family Well-Being":MAILTO:family.wellbeing.admin@gbtel.ca
END:VEVENT
BEGIN:VEVENT
DTSTART;TZID=UTC:20250220T113000
DTEND;TZID=UTC:20250220T133000
DTSTAMP:20260420T112554
CREATED:20250206T183914Z
LAST-MODIFIED:20250206T183914Z
UID:20468-1740051000-1740058200@www.nawash.ca
SUMMARY:Soup Kitchen
DESCRIPTION:
URL:https://www.nawash.ca/event/soup-kitchen-3/
LOCATION:Community Centre\, 34 Community Centre Rd\, Lion's Head\, Ontario\, N0H 1W0
ATTACH;FMTTYPE=image/png:https://www.nawash.ca/wordpress/wp-content/uploads/2025/02/Woman-Motivational-Quote-Facebook-Post-e1738866906836.png
ORGANIZER;CN="Nawash Food Bank":MAILTO:foodbankcoord@nawashfn.ca
END:VEVENT
END:VCALENDAR