BEGIN:VCALENDAR
VERSION:2.0
PRODID:-//Chippewas of Nawash Unceded First Nation - ECPv6.15.20//NONSGML v1.0//EN
CALSCALE:GREGORIAN
METHOD:PUBLISH
X-WR-CALNAME:Chippewas of Nawash Unceded First Nation
X-ORIGINAL-URL:https://www.nawash.ca
X-WR-CALDESC:Events for Chippewas of Nawash Unceded First Nation
REFRESH-INTERVAL;VALUE=DURATION:PT1H
X-Robots-Tag:noindex
X-PUBLISHED-TTL:PT1H
BEGIN:VTIMEZONE
TZID:UTC
BEGIN:STANDARD
TZOFFSETFROM:+0000
TZOFFSETTO:+0000
TZNAME:UTC
DTSTART:20240101T000000
END:STANDARD
END:VTIMEZONE
BEGIN:VEVENT
DTSTART;TZID=UTC:20250218T090000
DTEND;TZID=UTC:20250218T153000
DTSTAMP:20260420T112551
CREATED:20250106T155518Z
LAST-MODIFIED:20250106T184123Z
UID:20068-1739869200-1739892600@www.nawash.ca
SUMMARY:Council Meeting
DESCRIPTION:
URL:https://www.nawash.ca/event/council-meeting-7/
LOCATION:Council Chambers – Chippewas of Nawash Unceded First Nation Administration Building\, 135 Lakeshore Blvd.\, Neyaashiinigmiing\, Ontario\, N0H 2T0
ATTACH;FMTTYPE=image/png:https://www.nawash.ca/wordpress/wp-content/uploads/2025/01/Council-Meeting-e1742502953971.png
ORGANIZER;CN="Chief & Council":MAILTO:reception.admin@nawash.ca
END:VEVENT
BEGIN:VEVENT
DTSTART;TZID=UTC:20250218T100000
DTEND;TZID=UTC:20250218T150000
DTSTAMP:20260420T112551
CREATED:20250210T160810Z
LAST-MODIFIED:20250210T160810Z
UID:20492-1739872800-1739890800@www.nawash.ca
SUMMARY:Women's Hunting Skills Group
DESCRIPTION:
URL:https://www.nawash.ca/event/womens-hunting-skills-group/
LOCATION:Cape Croker Park\, 112 Park Rd\, Neyaashiinigmiing\, Ontario\, N0H2T0\, Canada
ATTACH;FMTTYPE=image/jpeg:https://www.nawash.ca/wordpress/wp-content/uploads/2025/02/475995576_630222919658340_6449116208301154931_n-e1739203652522.jpg
ORGANIZER;CN="Family Well-Being":MAILTO:family.wellbeing.admin@gbtel.ca
END:VEVENT
BEGIN:VEVENT
DTSTART;TZID=UTC:20250218T130000
DTEND;TZID=UTC:20250218T134500
DTSTAMP:20260420T112551
CREATED:20250121T201624Z
LAST-MODIFIED:20250121T201624Z
UID:20322-1739883600-1739886300@www.nawash.ca
SUMMARY:Yoga
DESCRIPTION:
URL:https://www.nawash.ca/event/yoga-2/
LOCATION:Maadookii Seniors Centre\, 33 Maadookii Cres\,\, Wiarton\, Ontario\, N0H 2T0\, Canada
ATTACH;FMTTYPE=image/jpeg:https://www.nawash.ca/wordpress/wp-content/uploads/2025/01/Yoga-Classes-Flyer-e1737490500643.jpg
END:VEVENT
BEGIN:VEVENT
DTSTART;TZID=UTC:20250218T190000
DTEND;TZID=UTC:20250218T210000
DTSTAMP:20260420T112551
CREATED:20250106T180917Z
LAST-MODIFIED:20250106T180917Z
UID:20088-1739905200-1739912400@www.nawash.ca
SUMMARY:Drop-In Volleyball
DESCRIPTION:
URL:https://www.nawash.ca/event/drop-in-volleyball-6/
LOCATION:Kikendaasogamig Elementary School\, 45 Farm Road\, Wiarton\, Ontario\, N0H 2T0
ATTACH;FMTTYPE=image/jpeg:https://www.nawash.ca/wordpress/wp-content/uploads/2025/01/457369083_2653169644863800_6590026024842393031_n-e1736186665686.jpg
ORGANIZER;CN="Harm Reduction and Outreach":MAILTO:harmreduction@nawash.ca
END:VEVENT
END:VCALENDAR