BEGIN:VCALENDAR
VERSION:2.0
PRODID:-//Chippewas of Nawash Unceded First Nation - ECPv6.15.20//NONSGML v1.0//EN
CALSCALE:GREGORIAN
METHOD:PUBLISH
X-ORIGINAL-URL:https://www.nawash.ca
X-WR-CALDESC:Events for Chippewas of Nawash Unceded First Nation
REFRESH-INTERVAL;VALUE=DURATION:PT1H
X-Robots-Tag:noindex
X-PUBLISHED-TTL:PT1H
BEGIN:VTIMEZONE
TZID:UTC
BEGIN:STANDARD
TZOFFSETFROM:+0000
TZOFFSETTO:+0000
TZNAME:UTC
DTSTART:20240101T000000
END:STANDARD
END:VTIMEZONE
BEGIN:VEVENT
DTSTART;TZID=UTC:20250215T110000
DTEND;TZID=UTC:20250215T140000
DTSTAMP:20260420T141933
CREATED:20250109T150433Z
LAST-MODIFIED:20250109T150433Z
UID:20208-1739617200-1739628000@www.nawash.ca
SUMMARY:Horse Drawn Sleigh Rides
DESCRIPTION:You must register your family to attend (this helps with food numbers)
URL:https://www.nawash.ca/event/horse-drawn-sleigh-rides/
LOCATION:Dual Acres Farm\, 300218 Grey County Rd 170\, Shallow Lake\, Ontario\, N0H 2K0\, Canada
ATTACH;FMTTYPE=image/jpeg:https://www.nawash.ca/wordpress/wp-content/uploads/2025/01/Family-Day-horse-ride-e1736435056955.jpg
ORGANIZER;CN="Journey Together":MAILTO:ecc.nshiime@gbtel.ca
END:VEVENT
BEGIN:VEVENT
DTSTART;TZID=UTC:20250215T140000
DTEND;TZID=UTC:20250215T160000
DTSTAMP:20260420T141933
CREATED:20250206T161700Z
LAST-MODIFIED:20250206T161700Z
UID:20453-1739628000-1739635200@www.nawash.ca
SUMMARY:Clay Turtle Workshop
DESCRIPTION:
URL:https://www.nawash.ca/event/clay-turtle-workshop/
LOCATION:Community Centre\, 34 Community Centre Rd\, Lion's Head\, Ontario\, N0H 1W0
ATTACH;FMTTYPE=image/jpeg:https://www.nawash.ca/wordpress/wp-content/uploads/2025/02/World-Turtle-Day-Template-Made-with-PosterMyWall-4-002-e1738858607233.jpg
ORGANIZER;CN="Family Well-Being":MAILTO:family.wellbeing.admin@gbtel.ca
END:VEVENT
BEGIN:VEVENT
DTSTART;TZID=UTC:20250215T190000
DTEND;TZID=UTC:20250215T220000
DTSTAMP:20260420T141933
CREATED:20250206T174206Z
LAST-MODIFIED:20250206T174206Z
UID:20460-1739646000-1739656800@www.nawash.ca
SUMMARY:FREE Owen Sound Attack Game
DESCRIPTION:
URL:https://www.nawash.ca/event/free-owen-sound-attack-game/
LOCATION:Ontario
ATTACH;FMTTYPE=image/jpeg:https://www.nawash.ca/wordpress/wp-content/uploads/2025/02/476472646_1035586718613381_3916799896353393807_n-e1738863714950.jpg
ORGANIZER;CN="CARA - Community Aboriginal Recreation Activator":MAILTO:communityactivator@nawash.ca
END:VEVENT
END:VCALENDAR