BEGIN:VCALENDAR
VERSION:2.0
PRODID:-//Chippewas of Nawash Unceded First Nation - ECPv6.15.20//NONSGML v1.0//EN
CALSCALE:GREGORIAN
METHOD:PUBLISH
X-WR-CALNAME:Chippewas of Nawash Unceded First Nation
X-ORIGINAL-URL:https://www.nawash.ca
X-WR-CALDESC:Events for Chippewas of Nawash Unceded First Nation
REFRESH-INTERVAL;VALUE=DURATION:PT1H
X-Robots-Tag:noindex
X-PUBLISHED-TTL:PT1H
BEGIN:VTIMEZONE
TZID:UTC
BEGIN:STANDARD
TZOFFSETFROM:+0000
TZOFFSETTO:+0000
TZNAME:UTC
DTSTART:20240101T000000
END:STANDARD
END:VTIMEZONE
BEGIN:VEVENT
DTSTART;TZID=UTC:20250203T090000
DTEND;TZID=UTC:20250203T153000
DTSTAMP:20260420T113149
CREATED:20250106T155352Z
LAST-MODIFIED:20250106T155352Z
UID:20062-1738573200-1738596600@www.nawash.ca
SUMMARY:Council Meeting
DESCRIPTION:
URL:https://www.nawash.ca/event/council-meeting-5/
LOCATION:Council Chambers – Chippewas of Nawash Unceded First Nation Administration Building\, 135 Lakeshore Blvd.\, Neyaashiinigmiing\, Ontario\, N0H 2T0
ATTACH;FMTTYPE=image/png:https://www.nawash.ca/wordpress/wp-content/uploads/2025/01/Council-Meeting-e1742502953971.png
ORGANIZER;CN="Chief & Council":MAILTO:reception.admin@nawash.ca
END:VEVENT
END:VCALENDAR