BEGIN:VCALENDAR
VERSION:2.0
PRODID:-//Chippewas of Nawash Unceded First Nation - ECPv6.15.20//NONSGML v1.0//EN
CALSCALE:GREGORIAN
METHOD:PUBLISH
X-ORIGINAL-URL:https://www.nawash.ca
X-WR-CALDESC:Events for Chippewas of Nawash Unceded First Nation
REFRESH-INTERVAL;VALUE=DURATION:PT1H
X-Robots-Tag:noindex
X-PUBLISHED-TTL:PT1H
BEGIN:VTIMEZONE
TZID:UTC
BEGIN:STANDARD
TZOFFSETFROM:+0000
TZOFFSETTO:+0000
TZNAME:UTC
DTSTART:20240101T000000
END:STANDARD
END:VTIMEZONE
BEGIN:VEVENT
DTSTART;TZID=UTC:20250127T090000
DTEND;TZID=UTC:20250127T153000
DTSTAMP:20260420T112545
CREATED:20250106T155257Z
LAST-MODIFIED:20250106T155312Z
UID:20058-1737968400-1737991800@www.nawash.ca
SUMMARY:Council Meeting
DESCRIPTION:
URL:https://www.nawash.ca/event/council-chambers/
LOCATION:Council Chambers – Chippewas of Nawash Unceded First Nation Administration Building\, 135 Lakeshore Blvd.\, Neyaashiinigmiing\, Ontario\, N0H 2T0
ATTACH;FMTTYPE=image/png:https://www.nawash.ca/wordpress/wp-content/uploads/2025/01/Council-Meeting-e1742502953971.png
ORGANIZER;CN="Chief & Council":MAILTO:reception.admin@nawash.ca
END:VEVENT
BEGIN:VEVENT
DTSTART;TZID=UTC:20250127T164500
DTEND;TZID=UTC:20250127T190000
DTSTAMP:20260420T112545
CREATED:20250122T173138Z
LAST-MODIFIED:20250122T173138Z
UID:20334-1737996300-1738004400@www.nawash.ca
SUMMARY:Winter Sled Party
DESCRIPTION:
URL:https://www.nawash.ca/event/winter-sled-party/
LOCATION:Ontario
ATTACH;FMTTYPE=image/png:https://www.nawash.ca/wordpress/wp-content/uploads/2025/01/Screenshot-2025-01-22-122910-e1737567075499.png
END:VEVENT
BEGIN:VEVENT
DTSTART;TZID=UTC:20250127T180000
DTEND;TZID=UTC:20250127T184500
DTSTAMP:20260420T112545
CREATED:20250106T144341Z
LAST-MODIFIED:20250106T144341Z
UID:20014-1738000800-1738003500@www.nawash.ca
SUMMARY:Yoga Class
DESCRIPTION:
URL:https://www.nawash.ca/event/yoga-class-4/
LOCATION:Maadookii Seniors Centre\, 33 Maadookii Cres\,\, Wiarton\, Ontario\, N0H 2T0\, Canada
ATTACH;FMTTYPE=image/jpeg:https://www.nawash.ca/wordpress/wp-content/uploads/2025/01/470982742_1144554321013042_5783469925268144093_n-e1736174401383.jpg
ORGANIZER;CN="Maternal Child Health":MAILTO:maternalchildhealth@nawash.ca
END:VEVENT
BEGIN:VEVENT
DTSTART;TZID=UTC:20250127T180000
DTEND;TZID=UTC:20250127T190000
DTSTAMP:20260420T112545
CREATED:20250106T183447Z
LAST-MODIFIED:20250106T183447Z
UID:20141-1738000800-1738004400@www.nawash.ca
SUMMARY:Drumming Group
DESCRIPTION:
URL:https://www.nawash.ca/event/drumming-group-4/
LOCATION:Maadookii Seniors Centre\, 33 Maadookii Cres\,\, Wiarton\, Ontario\, N0H 2T0\, Canada
ATTACH;FMTTYPE=image/jpeg:https://www.nawash.ca/wordpress/wp-content/uploads/2025/01/472669507_10222738842818842_7724220797054010108_n-e1736175667701.jpg
END:VEVENT
END:VCALENDAR