BEGIN:VCALENDAR
VERSION:2.0
PRODID:-//Chippewas of Nawash Unceded First Nation - ECPv6.15.20//NONSGML v1.0//EN
CALSCALE:GREGORIAN
METHOD:PUBLISH
X-ORIGINAL-URL:https://www.nawash.ca
X-WR-CALDESC:Events for Chippewas of Nawash Unceded First Nation
REFRESH-INTERVAL;VALUE=DURATION:PT1H
X-Robots-Tag:noindex
X-PUBLISHED-TTL:PT1H
BEGIN:VTIMEZONE
TZID:UTC
BEGIN:STANDARD
TZOFFSETFROM:+0000
TZOFFSETTO:+0000
TZNAME:UTC
DTSTART:20240101T000000
END:STANDARD
END:VTIMEZONE
BEGIN:VEVENT
DTSTART;TZID=UTC:20250123T150000
DTEND;TZID=UTC:20250123T163000
DTSTAMP:20260420T125527
CREATED:20250113T204715Z
LAST-MODIFIED:20250113T204832Z
UID:20246-1737644400-1737649800@www.nawash.ca
SUMMARY:Drop-In Office Hours
DESCRIPTION:
URL:https://www.nawash.ca/event/20246/
LOCATION:Council Chambers – Chippewas of Nawash Unceded First Nation Administration Building\, 135 Lakeshore Blvd.\, Neyaashiinigmiing\, Ontario\, N0H 2T0
ATTACH;FMTTYPE=image/png:https://www.nawash.ca/wordpress/wp-content/uploads/2025/01/Drop-In-Office-Hours-e1736801219498.png
END:VEVENT
BEGIN:VEVENT
DTSTART;TZID=UTC:20250123T173000
DTEND;TZID=UTC:20250123T190000
DTSTAMP:20260420T125527
CREATED:20250109T155249Z
LAST-MODIFIED:20250122T172733Z
UID:20213-1737653400-1737658800@www.nawash.ca
SUMMARY:Young Chef Cooking Class
DESCRIPTION:
URL:https://www.nawash.ca/event/young-chef-cooking-class/
LOCATION:Ontario
ATTACH;FMTTYPE=image/png:https://www.nawash.ca/wordpress/wp-content/uploads/2025/01/Upcoming-Events-7-e1737566831200.png
ORGANIZER;CN="Journey Together":MAILTO:ecc.nshiime@gbtel.ca
END:VEVENT
END:VCALENDAR