BEGIN:VCALENDAR
VERSION:2.0
PRODID:-//Chippewas of Nawash Unceded First Nation - ECPv6.15.20//NONSGML v1.0//EN
CALSCALE:GREGORIAN
METHOD:PUBLISH
X-ORIGINAL-URL:https://www.nawash.ca
X-WR-CALDESC:Events for Chippewas of Nawash Unceded First Nation
REFRESH-INTERVAL;VALUE=DURATION:PT1H
X-Robots-Tag:noindex
X-PUBLISHED-TTL:PT1H
BEGIN:VTIMEZONE
TZID:UTC
BEGIN:STANDARD
TZOFFSETFROM:+0000
TZOFFSETTO:+0000
TZNAME:UTC
DTSTART:20240101T000000
END:STANDARD
END:VTIMEZONE
BEGIN:VEVENT
DTSTART;TZID=UTC:20250117T173000
DTEND;TZID=UTC:20250117T193000
DTSTAMP:20260420T130106
CREATED:20250110T173533Z
LAST-MODIFIED:20250110T173533Z
UID:20238-1737135000-1737142200@www.nawash.ca
SUMMARY:Pottery Making Workshop
DESCRIPTION:
URL:https://www.nawash.ca/event/pottery-making-workshop/
LOCATION:Maadookii Seniors Centre\, 33 Maadookii Cres\,\, Wiarton\, Ontario\, N0H 2T0\, Canada
ATTACH;FMTTYPE=image/jpeg:https://www.nawash.ca/wordpress/wp-content/uploads/2025/01/Pottery-Making-e1736530524276.jpg
ORGANIZER;CN="Maternal Child Health":MAILTO:maternalchildhealth@nawash.ca
END:VEVENT
END:VCALENDAR