BEGIN:VCALENDAR
VERSION:2.0
PRODID:-//Chippewas of Nawash Unceded First Nation - ECPv6.15.20//NONSGML v1.0//EN
CALSCALE:GREGORIAN
METHOD:PUBLISH
X-ORIGINAL-URL:https://www.nawash.ca
X-WR-CALDESC:Events for Chippewas of Nawash Unceded First Nation
REFRESH-INTERVAL;VALUE=DURATION:PT1H
X-Robots-Tag:noindex
X-PUBLISHED-TTL:PT1H
BEGIN:VTIMEZONE
TZID:UTC
BEGIN:STANDARD
TZOFFSETFROM:+0000
TZOFFSETTO:+0000
TZNAME:UTC
DTSTART:20230101T000000
END:STANDARD
END:VTIMEZONE
BEGIN:VEVENT
DTSTART;TZID=UTC:20241126T190000
DTEND;TZID=UTC:20241126T210000
DTSTAMP:20260422T101653
CREATED:20241016T134634Z
LAST-MODIFIED:20241016T134634Z
UID:19428-1732647600-1732654800@www.nawash.ca
SUMMARY:Volleyball Drop In Night
DESCRIPTION:Volleyball Drop In Night – Every Tuesday night from 7-9 pm at the Kikendaasogamig Elementary School Gym. \nFor ages 18+ \n  \nParticipants will be required to wear proper gym attire/footwear while in the gym and all participants will be required to sing a consent/waiver form prior to playing.
URL:https://www.nawash.ca/event/volleyball-drop-in-night-10/
LOCATION:Kikendaasogamig Elementary School\, 45 Farm Road\, Wiarton\, Ontario\, N0H 2T0
ATTACH;FMTTYPE=image/jpeg:https://www.nawash.ca/wordpress/wp-content/uploads/2024/08/457369083_2653169644863800_6590026024842393031_n-1.jpg
ORGANIZER;CN="Harm Reduction and Outreach":MAILTO:harmreduction@nawash.ca
END:VEVENT
END:VCALENDAR