BEGIN:VCALENDAR
VERSION:2.0
PRODID:-//Chippewas of Nawash Unceded First Nation - ECPv6.15.20//NONSGML v1.0//EN
CALSCALE:GREGORIAN
METHOD:PUBLISH
X-WR-CALNAME:Chippewas of Nawash Unceded First Nation
X-ORIGINAL-URL:https://www.nawash.ca
X-WR-CALDESC:Events for Chippewas of Nawash Unceded First Nation
REFRESH-INTERVAL;VALUE=DURATION:PT1H
X-Robots-Tag:noindex
X-PUBLISHED-TTL:PT1H
BEGIN:VTIMEZONE
TZID:UTC
BEGIN:STANDARD
TZOFFSETFROM:+0000
TZOFFSETTO:+0000
TZNAME:UTC
DTSTART:20230101T000000
END:STANDARD
END:VTIMEZONE
BEGIN:VEVENT
DTSTART;TZID=UTC:20241123T093000
DTEND;TZID=UTC:20241123T120000
DTSTAMP:20260422T142855
CREATED:20241122T182201Z
LAST-MODIFIED:20241122T182201Z
UID:19743-1732354200-1732363200@www.nawash.ca
SUMMARY:Land Claims Meeting
DESCRIPTION:
URL:https://www.nawash.ca/event/land-claims-meeting/
LOCATION:Community Centre\, 34 Community Centre Rd\, Lion's Head\, Ontario\, N0H 1W0
ATTACH;FMTTYPE=image/jpeg:https://www.nawash.ca/wordpress/wp-content/uploads/2024/11/SON-poster-2024.11.15_page-0001-e1732299686673.jpg
ORGANIZER;CN="SON Environment Office":MAILTO:environmentoffice@saugeenojibwaynation.ca
END:VEVENT
BEGIN:VEVENT
DTSTART;TZID=UTC:20241123T140000
DTEND;TZID=UTC:20241123T170000
DTSTAMP:20260422T142855
CREATED:20241108T143732Z
LAST-MODIFIED:20241108T143732Z
UID:19525-1732370400-1732381200@www.nawash.ca
SUMMARY:Johnny Cash Tribute Show
DESCRIPTION:
URL:https://www.nawash.ca/event/johnny-cash-tribute-show/
LOCATION:Kikendaasogamig Elementary School\, 45 Farm Road\, Wiarton\, Ontario\, N0H 2T0
ATTACH;FMTTYPE=image/png:https://www.nawash.ca/wordpress/wp-content/uploads/2024/11/image-1.png
ORGANIZER;CN="Family Well-Being":MAILTO:family.wellbeing.admin@gbtel.ca
END:VEVENT
END:VCALENDAR