BEGIN:VCALENDAR
VERSION:2.0
PRODID:-//Chippewas of Nawash Unceded First Nation - ECPv6.15.20//NONSGML v1.0//EN
CALSCALE:GREGORIAN
METHOD:PUBLISH
X-ORIGINAL-URL:https://www.nawash.ca
X-WR-CALDESC:Events for Chippewas of Nawash Unceded First Nation
REFRESH-INTERVAL;VALUE=DURATION:PT1H
X-Robots-Tag:noindex
X-PUBLISHED-TTL:PT1H
BEGIN:VTIMEZONE
TZID:UTC
BEGIN:STANDARD
TZOFFSETFROM:+0000
TZOFFSETTO:+0000
TZNAME:UTC
DTSTART:20230101T000000
END:STANDARD
END:VTIMEZONE
BEGIN:VEVENT
DTSTART;TZID=UTC:20241121T170000
DTEND;TZID=UTC:20241121T210000
DTSTAMP:20260422T165840
CREATED:20241119T144720Z
LAST-MODIFIED:20241119T144720Z
UID:19629-1732208400-1732222800@www.nawash.ca
SUMMARY:Community Craft Circle
DESCRIPTION:
URL:https://www.nawash.ca/event/community-craft-circle/
LOCATION:Maadookii Seniors Centre\, 33 Maadookii Cres\,\, Wiarton\, Ontario\, N0H 2T0\, Canada
ATTACH;FMTTYPE=image/jpeg:https://www.nawash.ca/wordpress/wp-content/uploads/2024/11/467843126_1281564063251106_5244812675010546190_n-e1732027619371.jpg
END:VEVENT
END:VCALENDAR